BEGIN:VCALENDAR
VERSION:2.0
PRODID:-//MarZen - ECPv6.15.20//NONSGML v1.0//EN
CALSCALE:GREGORIAN
METHOD:PUBLISH
X-WR-CALNAME:MarZen
X-ORIGINAL-URL:https://marzen.fr
X-WR-CALDESC:Évènements pour MarZen
REFRESH-INTERVAL;VALUE=DURATION:PT1H
X-Robots-Tag:noindex
X-PUBLISHED-TTL:PT1H
BEGIN:VTIMEZONE
TZID:Europe/Paris
BEGIN:DAYLIGHT
TZOFFSETFROM:+0100
TZOFFSETTO:+0200
TZNAME:CEST
DTSTART:20180325T010000
END:DAYLIGHT
BEGIN:STANDARD
TZOFFSETFROM:+0200
TZOFFSETTO:+0100
TZNAME:CET
DTSTART:20181028T010000
END:STANDARD
BEGIN:DAYLIGHT
TZOFFSETFROM:+0100
TZOFFSETTO:+0200
TZNAME:CEST
DTSTART:20190331T010000
END:DAYLIGHT
BEGIN:STANDARD
TZOFFSETFROM:+0200
TZOFFSETTO:+0100
TZNAME:CET
DTSTART:20191027T010000
END:STANDARD
BEGIN:DAYLIGHT
TZOFFSETFROM:+0100
TZOFFSETTO:+0200
TZNAME:CEST
DTSTART:20200329T010000
END:DAYLIGHT
BEGIN:STANDARD
TZOFFSETFROM:+0200
TZOFFSETTO:+0100
TZNAME:CET
DTSTART:20201025T010000
END:STANDARD
BEGIN:DAYLIGHT
TZOFFSETFROM:+0100
TZOFFSETTO:+0200
TZNAME:CEST
DTSTART:20210328T010000
END:DAYLIGHT
BEGIN:STANDARD
TZOFFSETFROM:+0200
TZOFFSETTO:+0100
TZNAME:CET
DTSTART:20211031T010000
END:STANDARD
END:VTIMEZONE
BEGIN:VEVENT
DTSTART;TZID=Europe/Paris:20200511T163000
DTEND;TZID=Europe/Paris:20200517T140000
DTSTAMP:20260422T222726
CREATED:20200120T154936Z
LAST-MODIFIED:20200427T211241Z
UID:504-1589214600-1589724000@marzen.fr
SUMMARY:Stage de mai 2020
DESCRIPTION:Ce stage est annulé en raison de la crise sanitaire actuelle.
URL:https://marzen.fr/date/stage-de-mai-2020/
LOCATION:Domaine de Sherwood\, Domaine de sherwood 78 rue de la Braie\, Notre Dame de Monts\, 85690
CATEGORIES:stage de jeûne
ORGANIZER;CN="MarZen":MAILTO:marine@marzen.fr
END:VEVENT
BEGIN:VEVENT
DTSTART;TZID=Europe/Paris:20200404T163000
DTEND;TZID=Europe/Paris:20200410T140000
DTSTAMP:20260422T222726
CREATED:20200120T154346Z
LAST-MODIFIED:20200427T211356Z
UID:502-1586017800-1586527200@marzen.fr
SUMMARY:Stage d'avril 2020
DESCRIPTION:Ce stage est annulé en raison de la crise sanitaire actuelle.
URL:https://marzen.fr/date/stage-davril-2020/
LOCATION:Domaine de Sherwood\, Domaine de sherwood 78 rue de la Braie\, Notre Dame de Monts\, 85690
CATEGORIES:stage de jeûne
ORGANIZER;CN="MarZen":MAILTO:marine@marzen.fr
END:VEVENT
BEGIN:VEVENT
DTSTART;TZID=Europe/Paris:20200222T163000
DTEND;TZID=Europe/Paris:20200228T140000
DTSTAMP:20260422T222726
CREATED:20200120T153842Z
LAST-MODIFIED:20200120T160653Z
UID:498-1582389000-1582898400@marzen.fr
SUMMARY:Stage de février 2020
DESCRIPTION:
URL:https://marzen.fr/date/stage-de-fevrier-2020/
LOCATION:Domaine de Sherwood\, Domaine de sherwood 78 rue de la Braie\, Notre Dame de Monts\, 85690
CATEGORIES:stage de jeûne
ORGANIZER;CN="MarZen":MAILTO:marine@marzen.fr
END:VEVENT
BEGIN:VEVENT
DTSTART;TZID=Europe/Paris:20191012T163000
DTEND;TZID=Europe/Paris:20191018T140000
DTSTAMP:20260422T222726
CREATED:20170111T001857Z
LAST-MODIFIED:20181021T112830Z
UID:80-1570897800-1571407200@marzen.fr
SUMMARY:stage d'octobre 2019
DESCRIPTION:
URL:https://marzen.fr/date/stage-doctobre-2019/
LOCATION:Domaine de Sherwood\, Domaine de sherwood 78 rue de la Braie\, Notre Dame de Monts\, 85690
CATEGORIES:stage de jeûne
ORGANIZER;CN="MarZen":MAILTO:marine@marzen.fr
END:VEVENT
BEGIN:VEVENT
DTSTART;TZID=Europe/Paris:20190921T170000
DTEND;TZID=Europe/Paris:20190927T140000
DTSTAMP:20260422T222726
CREATED:20170111T001432Z
LAST-MODIFIED:20181021T112913Z
UID:76-1569085200-1569592800@marzen.fr
SUMMARY:stage de septembre 2019
DESCRIPTION:
URL:https://marzen.fr/date/stage-de-septembre-2019/
LOCATION:Domaine de Sherwood\, Domaine de sherwood 78 rue de la Braie\, Notre Dame de Monts\, 85690
CATEGORIES:stage de jeûne
ORGANIZER;CN="MarZen":MAILTO:marine@marzen.fr
END:VEVENT
BEGIN:VEVENT
DTSTART;TZID=Europe/Paris:20190824T163000
DTEND;TZID=Europe/Paris:20190830T163000
DTSTAMP:20260422T222726
CREATED:20181021T112248Z
LAST-MODIFIED:20181021T112600Z
UID:446-1566664200-1567182600@marzen.fr
SUMMARY:stage d'août 2019
DESCRIPTION:
URL:https://marzen.fr/date/stage-daout-2019/
LOCATION:Domaine de Sherwood\, Domaine de sherwood 78 rue de la Braie\, Notre Dame de Monts\, 85690
CATEGORIES:stage de jeûne
END:VEVENT
BEGIN:VEVENT
DTSTART;TZID=Europe/Paris:20190622T170000
DTEND;TZID=Europe/Paris:20190628T140000
DTSTAMP:20260422T222726
CREATED:20170111T001052Z
LAST-MODIFIED:20181021T113024Z
UID:72-1561222800-1561730400@marzen.fr
SUMMARY:stage de juin 2019
DESCRIPTION:
URL:https://marzen.fr/date/stage-de-juin-2019/
LOCATION:Domaine de Sherwood\, Domaine de sherwood 78 rue de la Braie\, Notre Dame de Monts\, 85690
CATEGORIES:stage de jeûne
ORGANIZER;CN="MarZen":MAILTO:marine@marzen.fr
END:VEVENT
BEGIN:VEVENT
DTSTART;TZID=Europe/Paris:20190504T170000
DTEND;TZID=Europe/Paris:20190510T140000
DTSTAMP:20260422T222726
CREATED:20170111T000946Z
LAST-MODIFIED:20181021T113050Z
UID:70-1556989200-1557496800@marzen.fr
SUMMARY:stage de mai 2019
DESCRIPTION:
URL:https://marzen.fr/date/stage-de-mai-2019/
LOCATION:Domaine de Sherwood\, Domaine de sherwood 78 rue de la Braie\, Notre Dame de Monts\, 85690
CATEGORIES:stage de jeûne
ORGANIZER;CN="MarZen":MAILTO:marine@marzen.fr
END:VEVENT
BEGIN:VEVENT
DTSTART;TZID=Europe/Paris:20190413T163000
DTEND;TZID=Europe/Paris:20190419T140000
DTSTAMP:20260422T222726
CREATED:20170111T000737Z
LAST-MODIFIED:20181021T113136Z
UID:67-1555173000-1555682400@marzen.fr
SUMMARY:stage d'avril 2019
DESCRIPTION:
URL:https://marzen.fr/date/stage-davril-2019/
LOCATION:Quercy\, Saint-Bressou\, Quercy\, 46120
CATEGORIES:stage de jeûne
ORGANIZER;CN="MarZen":MAILTO:marine@marzen.fr
END:VEVENT
BEGIN:VEVENT
DTSTART;TZID=Europe/Paris:20190309T163000
DTEND;TZID=Europe/Paris:20190315T140000
DTSTAMP:20260422T222726
CREATED:20170111T000545Z
LAST-MODIFIED:20181021T113204Z
UID:65-1552149000-1552658400@marzen.fr
SUMMARY:stage de mars 2019
DESCRIPTION:
URL:https://marzen.fr/date/stage-de-mars-2019/
LOCATION:Domaine de Sherwood\, Domaine de sherwood 78 rue de la Braie\, Notre Dame de Monts\, 85690
CATEGORIES:stage de jeûne
ORGANIZER;CN="MarZen":MAILTO:marine@marzen.fr
END:VEVENT
BEGIN:VEVENT
DTSTART;TZID=Europe/Paris:20190216T163000
DTEND;TZID=Europe/Paris:20190222T140000
DTSTAMP:20260422T222726
CREATED:20170111T001656Z
LAST-MODIFIED:20181021T113248Z
UID:78-1550334600-1550844000@marzen.fr
SUMMARY:stage de février 2019
DESCRIPTION:
URL:https://marzen.fr/date/stage-de-fevrier-2019/
LOCATION:Domaine de Sherwood\, Domaine de sherwood 78 rue de la Braie\, Notre Dame de Monts\, 85690
CATEGORIES:stage de jeûne
ORGANIZER;CN="MarZen":MAILTO:marine@marzen.fr
END:VEVENT
END:VCALENDAR